BEGIN:VCALENDAR
VERSION:2.0
PRODID:-//Dorpshuis Kolfweid Callantsoog - ECPv5.14.0.4//NONSGML v1.0//EN
CALSCALE:GREGORIAN
METHOD:PUBLISH
X-WR-CALNAME:Dorpshuis Kolfweid Callantsoog
X-ORIGINAL-URL:https://www.dorpshuiscallantsoog.nl
X-WR-CALDESC:Evenementen voor Dorpshuis Kolfweid Callantsoog
BEGIN:VTIMEZONE
TZID:UTC
BEGIN:STANDARD
TZOFFSETFROM:+0000
TZOFFSETTO:+0000
TZNAME:UTC
DTSTART:20170101T000000
END:STANDARD
END:VTIMEZONE
BEGIN:VEVENT
DTSTART;VALUE=DATE:20170119
DTEND;VALUE=DATE:20170123
DTSTAMP:20260422T173612
CREATED:20161114T092548Z
LAST-MODIFIED:20170101T092919Z
UID:1563-1484784000-1485129599@www.dorpshuiscallantsoog.nl
SUMMARY:Bandstoot toernooi 2017
DESCRIPTION:BANDSTOOT TOERNOOI 2017 \nNa het mooie en gezellige toernooi van vorig jaar zitten we ook dit jaar weer helemaal vol.\n98 deelnemers strijden om de wisselbeker die vorig jaar door Perry Rood is gewonnen. \nDe planning is gemaakt. De boekjes worden verspreidt zodra ze gedrukt zijn. Wilt u het boekje alvast inzien?\nBekijk hem dan hier! \n 
URL:https://www.dorpshuiscallantsoog.nl/event/bandstoot-toernooi-2017/
LOCATION:Dorpshuis Callantsoog\, Jewelweg 7\, Callantsoog\, Noord-Holland\, 1759 HA\, Nederland
CATEGORIES:Evenementen
ATTACH;FMTTYPE=image/png:https://www.dorpshuiscallantsoog.nl/wp-content/uploads/2016/11/Bandstoottoernooi-2017.png
END:VEVENT
END:VCALENDAR