BEGIN:VCALENDAR
VERSION:2.0
PRODID:-//Dorpshuis Kolfweid Callantsoog - ECPv5.14.0.4//NONSGML v1.0//EN
CALSCALE:GREGORIAN
METHOD:PUBLISH
X-WR-CALNAME:Dorpshuis Kolfweid Callantsoog
X-ORIGINAL-URL:https://www.dorpshuiscallantsoog.nl
X-WR-CALDESC:Evenementen voor Dorpshuis Kolfweid Callantsoog
BEGIN:VTIMEZONE
TZID:UTC
BEGIN:STANDARD
TZOFFSETFROM:+0000
TZOFFSETTO:+0000
TZNAME:UTC
DTSTART:20190101T000000
END:STANDARD
END:VTIMEZONE
BEGIN:VEVENT
DTSTART;VALUE=DATE:20190408
DTEND;VALUE=DATE:20191221
DTSTAMP:20260420T101750
CREATED:20190408T072559Z
LAST-MODIFIED:20190408T073046Z
UID:2023-1554681600-1576886399@www.dorpshuiscallantsoog.nl
SUMMARY:Bubbelballen! Een superleuke activiteit!
DESCRIPTION:Bubbelballen! Een superleuke activiteit!\nBubbelbalfun.nl maakt jouw uitje super spectaculair! Om je heen krijg je een grote met lucht gevulde bal\, waar je benen uitsteken. Hiermee kun je lekker rennen\, botsen en koprollen met je teamgenoten of tegenstanders. Als je valt maak je een zachte landing want je wordt opgevangen door de opgeblazen bubbelbal. Je kunt een partijtje bubbelvoetbal spelen\, wat natuurlijk hilarisch wordt! Uiteraard is het lastig voetballen in een bubblebal\, maar het gaat natuurlijk om de lol! En plezier zul je beleven! Naast voetbal zijn er meerdere spellen mogelijk met de bubbelballen.Bubbelbalfun.nl is een superleuke activiteit voor een vereniging\, vrijgezellenfeest\, bedrijfsuitje\, vriendenweekend of kinderfeestje. Het is de ideale activiteit voor zowel kinderen als volwassenen. Bubbelbalfun.nl beschikt over totaal 12 bubbelballen voor 2 teams. \n 
URL:https://www.dorpshuiscallantsoog.nl/event/bubbelbalfun/
CATEGORIES:Activiteiten
ATTACH;FMTTYPE=image/jpeg:https://www.dorpshuiscallantsoog.nl/wp-content/uploads/2019/04/bubbelbal.jpg
END:VEVENT
END:VCALENDAR