BEGIN:VCALENDAR
VERSION:2.0
PRODID:-//Dorpshuis Kolfweid Callantsoog - ECPv5.14.0.4//NONSGML v1.0//EN
CALSCALE:GREGORIAN
METHOD:PUBLISH
X-WR-CALNAME:Dorpshuis Kolfweid Callantsoog
X-ORIGINAL-URL:https://www.dorpshuiscallantsoog.nl
X-WR-CALDESC:Evenementen voor Dorpshuis Kolfweid Callantsoog
BEGIN:VTIMEZONE
TZID:UTC
BEGIN:STANDARD
TZOFFSETFROM:+0000
TZOFFSETTO:+0000
TZNAME:UTC
DTSTART:20160101T000000
END:STANDARD
END:VTIMEZONE
BEGIN:VEVENT
DTSTART;TZID=UTC:20160618T203000
DTEND;TZID=UTC:20160618T203000
DTSTAMP:20260422T190850
CREATED:20160606T182017Z
LAST-MODIFIED:20160606T182255Z
UID:1515-1466281800-1466281800@www.dorpshuiscallantsoog.nl
SUMMARY:C1000 reünie
DESCRIPTION:HERINNERINGEN OPHALEN? Reünie C1000 Callantsoog! \nOp zaterdag 18 juni is er een reünie voor oud werknemers van C1000 Callantsoog. Kom je ook gezellig herinneringen ophalen en oude bekenden weer zien? Dit is de laatste week dat je je aan kunt aanmelden!\nDe kosten zijn € 12\,50 per persoon. Er zijn nu 25 aanmeldingen het het zou leuk zijn als dat er nog meer worden! Dus kom op! Meld je aan en kom gezellig 18 juni naar Callantsoog! \nGraag ontvangen wij ook jullie verhalen\, anekdotes en eventueel foto’s zodat we een leuk plakboek kunnen maken als aandenken voor de familie van Dalsem. \nKijk voor meer info op de facebookpagina van de reünie. \nDe inschrijfkosten kunnen worden overgemaakt naar NL56INGB0006147551\, t.n.v. R. Vlieger en o.v.v. Reünie C1000.
URL:https://www.dorpshuiscallantsoog.nl/event/c1000-reunie/
LOCATION:Dorpshuis Callantsoog: Café en grote zaal\, Jewelweg 7\, Callantsoog\, Noord-Holland\, 1759 HA
CATEGORIES:Evenementen
ATTACH;FMTTYPE=image/png:https://www.dorpshuiscallantsoog.nl/wp-content/uploads/2016/06/C1000-reunie.png
END:VEVENT
END:VCALENDAR