BEGIN:VCALENDAR
VERSION:2.0
PRODID:-//Dorpshuis Kolfweid Callantsoog - ECPv5.14.0.4//NONSGML v1.0//EN
CALSCALE:GREGORIAN
METHOD:PUBLISH
X-WR-CALNAME:Dorpshuis Kolfweid Callantsoog
X-ORIGINAL-URL:https://www.dorpshuiscallantsoog.nl
X-WR-CALDESC:Evenementen voor Dorpshuis Kolfweid Callantsoog
BEGIN:VTIMEZONE
TZID:Europe/Amsterdam
BEGIN:DAYLIGHT
TZOFFSETFROM:+0100
TZOFFSETTO:+0200
TZNAME:CEST
DTSTART:20260329T010000
END:DAYLIGHT
BEGIN:STANDARD
TZOFFSETFROM:+0200
TZOFFSETTO:+0100
TZNAME:CET
DTSTART:20261025T010000
END:STANDARD
END:VTIMEZONE
BEGIN:VEVENT
DTSTART;TZID=Europe/Amsterdam:20260131T193000
DTEND;TZID=Europe/Amsterdam:20260131T193000
DTSTAMP:20260422T144651
CREATED:20251123T131835Z
LAST-MODIFIED:20251123T131935Z
UID:2672-1769887800-1769887800@www.dorpshuiscallantsoog.nl
SUMMARY:Callantsoger Muziekavond
DESCRIPTION:Na het succes van de voorgaande jaren zijn we terug met de 3e editie van de Muziekavond Callantsoog! Zaterdagavond 31 januari 2026 worden jullie getrakteerd op verschillende genres muziek door muzikanten uit ons eigen Callantsoog.
URL:https://www.dorpshuiscallantsoog.nl/event/callantsoger-muziekavond-2026/
CATEGORIES:Evenementen,Muziek
ATTACH;FMTTYPE=image/png:https://www.dorpshuiscallantsoog.nl/wp-content/uploads/2025/11/Calantsoger-Muziekavond.png
END:VEVENT
END:VCALENDAR