BEGIN:VCALENDAR
VERSION:2.0
PRODID:-//Dorpshuis Kolfweid Callantsoog - ECPv5.14.0.4//NONSGML v1.0//EN
CALSCALE:GREGORIAN
METHOD:PUBLISH
X-WR-CALNAME:Dorpshuis Kolfweid Callantsoog
X-ORIGINAL-URL:https://www.dorpshuiscallantsoog.nl
X-WR-CALDESC:Evenementen voor Dorpshuis Kolfweid Callantsoog
BEGIN:VTIMEZONE
TZID:Europe/Amsterdam
BEGIN:DAYLIGHT
TZOFFSETFROM:+0100
TZOFFSETTO:+0200
TZNAME:CEST
DTSTART:20220327T010000
END:DAYLIGHT
BEGIN:STANDARD
TZOFFSETFROM:+0200
TZOFFSETTO:+0100
TZNAME:CET
DTSTART:20221030T010000
END:STANDARD
END:VTIMEZONE
BEGIN:VEVENT
DTSTART;TZID=Europe/Amsterdam:20220408T200000
DTEND;TZID=Europe/Amsterdam:20220408T200000
DTSTAMP:20260420T174713
CREATED:20220228T123350Z
LAST-MODIFIED:20220228T123639Z
UID:2262-1649448000-1649448000@www.dorpshuiscallantsoog.nl
SUMMARY:De Andersons - Een mooiere wereld
DESCRIPTION:  \n  \nEen vurig en humoristisch theaterconcert in de geest van de vrijgevochten Zweedse schrijfster Astrid Lindgren. \nHet Zweeds-Nederlandse kleinkunstduo De Andersons wordt geprezen om hun oorspronkelijke kijk op de wereld\, die ze hartstochtelijk vertolken in voorstellingen vol muziek en prikkelende teksten. Na een succesvolle voorstelling i.s.m. Arjen Lubach\, brengen ze nu ‘Een mooiere wereld’\, met prachtige teksten van de bejubelde en met Griffels bekroonde schrijver Sjoerd Kuyper. \nHoe blijf je een levenskunstenaar als je voortdurend struikelt over doemscenario’s? In ‘Een mooiere wereld’\, vertellen en zingen De Andersons over het ontstaan en het groeien van hun liefde\, tot die te groot werd voor twee en ze hun kleine Noah Ramses op de wereld zetten. En met hem kwamen de grote vragen. Hoe kunnen we de wereld een beetje mooier maken? En wat voor mensen moeten we zijn of worden om dat te kunnen? \nDe Andersons gaan te rade bij Astrid Lindgren\, de enige echte koningin die Zweden ooit heeft gehad\, die tijdens haar leven duizenden kinderen en volwassenen troost en moed schonk en daarmee na haar dood niet is opgehouden. Haar geest zwiert nog rond en plant wijze en opstandige sprookjes in de hoofden van mensen die op zoek zijn naar wat werkelijk van waarde is. Een loodzware voorstelling? Nee. Veel vaker dan je zou vermoeden wordt er uitbundig gelachen. En omdat er in ‘Een mooiere wereld’ geen woord wordt gelogen\, vertellen De Andersons niet alleen hun verhaal\, maar dat van ons allemaal: van jonge ouders\, grootouders\, van iedereen die ooit kind is geweest. \n‘Een mooiere wereld’ is niet alleen een zoektocht naar een mooiere wereld\, het ís een mooiere wereld. Eén waarin je je kunt onderdompelen en waaruit je geïnspireerd en gelouterd weer bovenkomt. Een prachtig en ontroerend avontuur.’ – Katinka Polderman \nCredits \nDe Andersons: Anna Ågren en Roel Dullaart\nscript en dramaturgie: Sjoerd Kuyper\nliedteksten: De Andersons en Sjoerd Kuyper\nmuzikale compositie: Roel Dullaart\nregie: Agnes Bergmeijer\npromotie: Mirte Droogers\ntechniek: Theo Tollenaar\nlichtontwerp: Niels Kingma\ndecorontwerp: Nelly Blessinga\nfoto: Corné van der Stelt \nOver De Andersons \nDe Andersons is een duo met Zweedse roots bestaande uit Anna Ågren en Roel Dullaart. Eerder maakten ze samen met Arjen Lubach de voorstelling ‘Stockholm Sneeuwt’\, brachten ze een voorstelling over het leven en werk van Cornelis Vreeswijk en speelden ze een exclusieve concertreeks i.s.m. de band Zijlstra. De Andersons worden vaak geprezen om hun oorspronkelijke kijk op de wereld\, hun veelzijdige muzikaliteit\, sterke teksten en de hartstocht waarmee ze op het podium staan. De afgelopen seizoenen speelden ze het theaterconcert ‘Hier Dooft Niets’ en ontvingen ze gasten als Jan Terlouw\, Dieuwertje Blok\, Freek de Jonge\, Hakim Traïdia\, Hanneke Groenteman en vele anderen die hen vergezelden in hun zoektocht naar verwondering.\nwww.deandersons.nl \nOver Sjoerd Kuyper \nSjoerd Kuyper won o.a. zeven Zilveren Griffels en een Gouden Griffel voor ‘Robin en God’ en maar liefst 14 prijzen\, waaronder een Gouden Kalf\, voor de verfilming van zijn boek ‘Het zakmes’. Voor zijn gehele oeuvre kreeg Kuyper in 2012 de Theo Thijssenprijs. De jury roemde hem voor zijn talent “om moeilijke dingen\, grootse dingen zelfs\, te kunnen vertellen in een eenvoudige taal\, die zich nestelt in je hoofd en blijft rondzingen als een liedje. Een erg mooi liedje.” Naast jeugdromans en kinderboeken schrijft hij ook gedichten voor volwassenen en scripts voor films en televisie. \n \n  \n 
URL:https://www.dorpshuiscallantsoog.nl/event/de-andersons-een-mooiere-wereld/
LOCATION:Dorpshuis Callantsoog\, Jewelweg 7\, Callantsoog\, Noord-Holland\, 1759 HA\, Nederland
CATEGORIES:Cabaret,Evenementen,Muziek
ATTACH;FMTTYPE=image/jpeg:https://www.dorpshuiscallantsoog.nl/wp-content/uploads/2022/02/De_Andersons_Een_mooiere_wereld_Fotograaf_Corné_van_der_Stelt_Uitsnede_liggend_lowres.jpg
END:VEVENT
END:VCALENDAR