BEGIN:VCALENDAR
VERSION:2.0
PRODID:-//Dorpshuis Kolfweid Callantsoog - ECPv5.14.0.4//NONSGML v1.0//EN
CALSCALE:GREGORIAN
METHOD:PUBLISH
X-WR-CALNAME:Dorpshuis Kolfweid Callantsoog
X-ORIGINAL-URL:https://www.dorpshuiscallantsoog.nl
X-WR-CALDESC:Evenementen voor Dorpshuis Kolfweid Callantsoog
BEGIN:VTIMEZONE
TZID:UTC
BEGIN:STANDARD
TZOFFSETFROM:+0000
TZOFFSETTO:+0000
TZNAME:UTC
DTSTART:20200101T000000
END:STANDARD
END:VTIMEZONE
BEGIN:VEVENT
DTSTART;TZID=UTC:20200320T200000
DTEND;TZID=UTC:20200320T200000
DTSTAMP:20260420T132653
CREATED:20190924T042557Z
LAST-MODIFIED:20200313T115941Z
UID:2077-1584734400-1584734400@www.dorpshuiscallantsoog.nl
SUMMARY:Deng Boy - RAAR!
DESCRIPTION:Deng Boy gaat er weer tegenaan in hun nieuwe avondvullende programma genaamd RAAR. \nZe gaan het in deze show hebben over alles wat zij raar vinden in onze huidige maatschappij. En dat is nogal wat! Zo vinden zij het bijvoorbeeld RAAR dat zij Hollywood kennen maar Hollywood hen niet. Ook vinden ze het RAAR dat Surinamers\, Nederlands spreken maar Nederlanders geen Surinaams. Aan de hand van hilarische sketches met oude\, maar vooral nieuwe typetjes gaan ze alles wat ze RAAR vinden met u delen. Dat wordt gegarandeerd weer een hilarisch avondje uit! \n 
URL:https://www.dorpshuiscallantsoog.nl/event/deng-boy-raar/
LOCATION:Dorpshuis Kolfweid Callantsoog: Grote zaal\, Jewelweg 7\, Callantsoog\, Noord-Holland\, 1759 HA\, Nederland
CATEGORIES:Cabaret
ATTACH;FMTTYPE=image/jpeg:https://www.dorpshuiscallantsoog.nl/wp-content/uploads/2019/09/Deng-boy_uitgesteld.jpg
END:VEVENT
END:VCALENDAR