BEGIN:VCALENDAR
VERSION:2.0
PRODID:-//Dorpshuis Kolfweid Callantsoog - ECPv5.14.0.4//NONSGML v1.0//EN
CALSCALE:GREGORIAN
METHOD:PUBLISH
X-WR-CALNAME:Dorpshuis Kolfweid Callantsoog
X-ORIGINAL-URL:https://www.dorpshuiscallantsoog.nl
X-WR-CALDESC:Evenementen voor Dorpshuis Kolfweid Callantsoog
BEGIN:VTIMEZONE
TZID:Europe/Amsterdam
BEGIN:DAYLIGHT
TZOFFSETFROM:+0100
TZOFFSETTO:+0200
TZNAME:CEST
DTSTART:20170326T010000
END:DAYLIGHT
BEGIN:STANDARD
TZOFFSETFROM:+0200
TZOFFSETTO:+0100
TZNAME:CET
DTSTART:20171029T010000
END:STANDARD
END:VTIMEZONE
BEGIN:VEVENT
DTSTART;VALUE=DATE:20171125
DTEND;VALUE=DATE:20171126
DTSTAMP:20260422T153855
CREATED:20170904T071408Z
LAST-MODIFIED:20171115T205152Z
UID:1630-1511568000-1511654399@www.dorpshuiscallantsoog.nl
SUMMARY:Intocht Sinterklaas
DESCRIPTION:Op 25 november 2017 komen Sinterklaas en de pieten weer aan in Callantsoog! Na het gezellig samenzijn met de Sint in ons Dorpshuis gaan wij door met vanaf 16.00 uur LIVE-muziek van LAKE ENTERTAINMENT. Sommigen kennen deze jongens al wel van onze PubBattle. Nu komen ze dus gewoon lekker spelen. Jullie hoeven dus niet te raden\, te schreeuwen\, te springen enz. Gewoon met een borrel bijpraten onder het genot van lekkere muziek. \nHet volledige programma van deze dag zal later bekend worden gemaakt. \n  \n  \n  \n 
URL:https://www.dorpshuiscallantsoog.nl/event/intocht-sinterklaas-2/
LOCATION:Dorpshuis Callantsoog\, Jewelweg 7\, Callantsoog\, Noord-Holland\, 1759 HA\, Nederland
CATEGORIES:Evenementen
ATTACH;FMTTYPE=image/jpeg:https://www.dorpshuiscallantsoog.nl/wp-content/uploads/2017/09/sinterklaas-e1504516296387.jpg
END:VEVENT
END:VCALENDAR