BEGIN:VCALENDAR
VERSION:2.0
PRODID:-//Dorpshuis Kolfweid Callantsoog - ECPv5.14.0.4//NONSGML v1.0//EN
CALSCALE:GREGORIAN
METHOD:PUBLISH
X-WR-CALNAME:Dorpshuis Kolfweid Callantsoog
X-ORIGINAL-URL:https://www.dorpshuiscallantsoog.nl
X-WR-CALDESC:Evenementen voor Dorpshuis Kolfweid Callantsoog
BEGIN:VTIMEZONE
TZID:Europe/Amsterdam
BEGIN:DAYLIGHT
TZOFFSETFROM:+0100
TZOFFSETTO:+0200
TZNAME:CEST
DTSTART:20260329T010000
END:DAYLIGHT
BEGIN:STANDARD
TZOFFSETFROM:+0200
TZOFFSETTO:+0100
TZNAME:CET
DTSTART:20261025T010000
END:STANDARD
END:VTIMEZONE
BEGIN:VEVENT
DTSTART;TZID=Europe/Amsterdam:20260115T183000
DTEND;TZID=Europe/Amsterdam:20260118T180000
DTSTAMP:20260422T155828
CREATED:20251215T131827Z
LAST-MODIFIED:20260114T135047Z
UID:2680-1768501800-1768759200@www.dorpshuiscallantsoog.nl
SUMMARY:‘Jan Hoek’ Bandstoottoernooi 2026
DESCRIPTION:Het ‘Jan Hoek’ Bandstoottoernooi wordt gespeeld van donderdag 15 t/m zondag 18 januari 2026. De opening van het toernooi is donderdag 15 januari 2026 om 18.30 uur. We hebben er weer verschrikkelijk veel zin in! \nTijdens het toernooi worden alle standen bijgehouden door Ellen. Van donderdag tot en met zondag zorgt zij dat alle uitslagen weer op de juiste manier worden verwerkt.\nHarry\, Hans\, Rob en Ingmar zorgen in de voorbereiding en tijdens het toernooi dat alles vlotjes verloopt. Wij wensen jullie allemaal een mooi en gezellig toernooi toe. En natuurlijk is iedereen van harte welkom om te kijken hoe de ballen rollen. \nWilt u de speelschema’s* bekijken? U kunt ze via deze link downloaden.\n*eventuele wijzigingen voorbehouden.
URL:https://www.dorpshuiscallantsoog.nl/event/jan-hoek-bandstoottoernooi-2026/
CATEGORIES:Activiteiten
ATTACH;FMTTYPE=image/png:https://www.dorpshuiscallantsoog.nl/wp-content/uploads/2024/01/Image-web.png
END:VEVENT
END:VCALENDAR