BEGIN:VCALENDAR
VERSION:2.0
PRODID:-//Dorpshuis Kolfweid Callantsoog - ECPv5.14.0.4//NONSGML v1.0//EN
CALSCALE:GREGORIAN
METHOD:PUBLISH
X-WR-CALNAME:Dorpshuis Kolfweid Callantsoog
X-ORIGINAL-URL:https://www.dorpshuiscallantsoog.nl
X-WR-CALDESC:Evenementen voor Dorpshuis Kolfweid Callantsoog
BEGIN:VTIMEZONE
TZID:UTC
BEGIN:STANDARD
TZOFFSETFROM:+0000
TZOFFSETTO:+0000
TZNAME:UTC
DTSTART:20170101T000000
END:STANDARD
END:VTIMEZONE
BEGIN:VEVENT
DTSTART;TZID=UTC:20171222T193000
DTEND;TZID=UTC:20171222T193000
DTSTAMP:20260422T055605
CREATED:20171218T092200Z
LAST-MODIFIED:20171218T093019Z
UID:1673-1513971000-1513971000@www.dorpshuiscallantsoog.nl
SUMMARY:Klaverjassen rond de kerstboom
DESCRIPTION:Klaverjassen rond de kerstboom\nVrijdag 22 december gaan we klaverjassen in kerstsfeer! Heb je ervaring met klaverjassen en heb je zin in een gezellige kaartavond met leuke prijzen? Meld je dan (het liefst met partner) aan bij Ingmar: 0630059568 of via de mail ingmar@dorpshuiscallantsoog.nl  \nInschrijfgeld €3\,-. Aanvang 19.30 uur.
URL:https://www.dorpshuiscallantsoog.nl/event/klaverjassen-rond-de-kerstboom/
LOCATION:Dorpshuis Callantsoog: Foyer\, Jewelweg 7\, Callantsoog\, Noord-Holland\, 1759 HA
CATEGORIES:Activiteiten
ATTACH;FMTTYPE=image/jpeg:https://www.dorpshuiscallantsoog.nl/wp-content/uploads/2017/12/Klaverjassen_kerst_web.jpg
ORGANIZER;CN="Dorpshuis%20Kolfweid%20Callantsoog":MAILTO:info@dorpshuiscallantsoog.nl
END:VEVENT
END:VCALENDAR