BEGIN:VCALENDAR
VERSION:2.0
PRODID:-//Dorpshuis Kolfweid Callantsoog - ECPv5.14.0.4//NONSGML v1.0//EN
CALSCALE:GREGORIAN
METHOD:PUBLISH
X-WR-CALNAME:Dorpshuis Kolfweid Callantsoog
X-ORIGINAL-URL:https://www.dorpshuiscallantsoog.nl
X-WR-CALDESC:Evenementen voor Dorpshuis Kolfweid Callantsoog
BEGIN:VTIMEZONE
TZID:Europe/Amsterdam
BEGIN:DAYLIGHT
TZOFFSETFROM:+0100
TZOFFSETTO:+0200
TZNAME:CEST
DTSTART:20160327T010000
END:DAYLIGHT
BEGIN:STANDARD
TZOFFSETFROM:+0200
TZOFFSETTO:+0100
TZNAME:CET
DTSTART:20161030T010000
END:STANDARD
END:VTIMEZONE
BEGIN:VEVENT
DTSTART;TZID=Europe/Amsterdam:20160530T100000
DTEND;TZID=Europe/Amsterdam:20160530T170000
DTSTAMP:20260422T191059
CREATED:20160530T072322Z
LAST-MODIFIED:20160530T072642Z
UID:1344-1464602400-1464627600@www.dorpshuiscallantsoog.nl
SUMMARY:Koren Feestival
DESCRIPTION:Hier een uitleg tekst over het prograam en de workshops
URL:https://www.dorpshuiscallantsoog.nl/event/koren-feestival/
LOCATION:Alle zalen
CATEGORIES:Evenementen
ATTACH;FMTTYPE=image/png:https://www.dorpshuiscallantsoog.nl/wp-content/uploads/2016/05/Korendag-aankondiging.png
ORGANIZER;CN="Koor%20Company":MAILTO:mcsvandriel@gmail.com
END:VEVENT
END:VCALENDAR