BEGIN:VCALENDAR
VERSION:2.0
PRODID:-//Dorpshuis Kolfweid Callantsoog - ECPv5.14.0.4//NONSGML v1.0//EN
CALSCALE:GREGORIAN
METHOD:PUBLISH
X-WR-CALNAME:Dorpshuis Kolfweid Callantsoog
X-ORIGINAL-URL:https://www.dorpshuiscallantsoog.nl
X-WR-CALDESC:Evenementen voor Dorpshuis Kolfweid Callantsoog
BEGIN:VTIMEZONE
TZID:UTC
BEGIN:STANDARD
TZOFFSETFROM:+0000
TZOFFSETTO:+0000
TZNAME:UTC
DTSTART:20170101T000000
END:STANDARD
END:VTIMEZONE
BEGIN:VEVENT
DTSTART;TZID=UTC:20170127T203000
DTEND;TZID=UTC:20170127T203000
DTSTAMP:20260422T172501
CREATED:20160602T175823Z
LAST-MODIFIED:20161231T102221Z
UID:1447-1485549000-1485549000@www.dorpshuiscallantsoog.nl
SUMMARY:Smartlappenkoor
DESCRIPTION:Iedere laatste vrijdag van de maand zingen we gezellig smartlappen! Iedereen mag meedoen en gewoon binnenlopen! Aanvang: 20.30 uur
URL:https://www.dorpshuiscallantsoog.nl/event/smartlappenkoor/
LOCATION:Dorpshuis Callantsoog: Café\, Jewelweg 7\, Callantsoog\, Noord-Holland\, 1759 HA
CATEGORIES:Evenementen
ATTACH;FMTTYPE=image/png:https://www.dorpshuiscallantsoog.nl/wp-content/uploads/2016/02/smartlappen.png
END:VEVENT
END:VCALENDAR