BEGIN:VCALENDAR
VERSION:2.0
PRODID:-//Dorpshuis Kolfweid Callantsoog - ECPv5.14.0.4//NONSGML v1.0//EN
CALSCALE:GREGORIAN
METHOD:PUBLISH
X-WR-CALNAME:Dorpshuis Kolfweid Callantsoog
X-ORIGINAL-URL:https://www.dorpshuiscallantsoog.nl
X-WR-CALDESC:Evenementen voor Dorpshuis Kolfweid Callantsoog
BEGIN:VTIMEZONE
TZID:UTC
BEGIN:STANDARD
TZOFFSETFROM:+0000
TZOFFSETTO:+0000
TZNAME:UTC
DTSTART:20160101T000000
END:STANDARD
END:VTIMEZONE
BEGIN:VEVENT
DTSTART;TZID=UTC:20161110T174500
DTEND;TZID=UTC:20161111T210000
DTSTAMP:20260422T173238
CREATED:20161102T111659Z
LAST-MODIFIED:20161102T113335Z
UID:1555-1478799900-1478898000@www.dorpshuiscallantsoog.nl
SUMMARY:Theaterdiner 'De Bruiloft'
DESCRIPTION:Donderdag 10 en vrijdag 11 november. \nAanvang: 18.00 uur.\nZaal open: 17.30.\nTot ca. 21.00 uur. \nDe Bruiloft is een theaterdiner over de liefde. Theatergroep Eenhoorn wil verhalen\, ervaringen en denkbeelden over de liefde laten zien door de ogen van acteurs met een speciaal talent en gastacteurs uit de regio. Bruiloft wordt een feestelijke dis ter ere van het bruidspaar. Tijdens dit feest zijn het de gasten die in al hun verscheidenheid vragen neerleggen bij het publiek over liefde\, eetgewoonten en burgerschap. Niets menselijks is ons vreemd\, want ook de oordelen\, verwachtingen\, verlangens en teleurstellingen in de liefde\, komen aan bod. \nResto VanHarte verzorgt een smaakvol driegangenmenu. \nDe kaartverkoop werkt als volgt: stuur een email naar het emailadres reserveren@theaterdinerbruiloft.nl met de volgende gegevens:\n–          Datum theatervoorstelling\n–          Aantal personen\n–          Maaltijdvoorkeur (vlees of vegetarisch\, en eventuele voedselallergieën)\nAls antwoord hierop ontvangt u een bevestigingsmail van Reservering Theatergroep Eenhoorn (check goed de map ongewenste mail/spam). Daarin staat de uitleg m.b.t. de betaling. De reservering is pas definitief als de kaarten zijn betaald. Kaarten kosten €22\,50 per stuk. Dit is inclusief een driegangenmenu en exclusief drankjes.
URL:https://www.dorpshuiscallantsoog.nl/event/theaterdiner-de-bruiloft/
CATEGORIES:Cabaret,Evenementen
ATTACH;FMTTYPE=image/jpeg:https://www.dorpshuiscallantsoog.nl/wp-content/uploads/2016/11/De-bruiloft.jpg
END:VEVENT
END:VCALENDAR