BEGIN:VCALENDAR
VERSION:2.0
PRODID:-//Dorpshuis Kolfweid Callantsoog - ECPv5.14.0.4//NONSGML v1.0//EN
CALSCALE:GREGORIAN
METHOD:PUBLISH
X-WR-CALNAME:Dorpshuis Kolfweid Callantsoog
X-ORIGINAL-URL:https://www.dorpshuiscallantsoog.nl
X-WR-CALDESC:Evenementen voor Dorpshuis Kolfweid Callantsoog
BEGIN:VTIMEZONE
TZID:Europe/Amsterdam
BEGIN:DAYLIGHT
TZOFFSETFROM:+0100
TZOFFSETTO:+0200
TZNAME:CEST
DTSTART:20220327T010000
END:DAYLIGHT
BEGIN:STANDARD
TZOFFSETFROM:+0200
TZOFFSETTO:+0100
TZNAME:CET
DTSTART:20221030T010000
END:STANDARD
END:VTIMEZONE
BEGIN:VEVENT
DTSTART;TZID=Europe/Amsterdam:20220318T200000
DTEND;TZID=Europe/Amsterdam:20220318T200000
DTSTAMP:20260420T160238
CREATED:20220307T182609Z
LAST-MODIFIED:20220315T103457Z
UID:2322-1647633600-1647633600@www.dorpshuiscallantsoog.nl
SUMMARY:Tisjeboy Jay 'Politiek Correct'
DESCRIPTION:  \n  \n\nJay is terug met een nieuwe voorstelling genaamd ‘Politiek Correct”\nDe show geeft je een inkijkje in de in zijn ogen steeds zachter wordende wereld. De scherpe randjes moeten eraf !!!Laat dat voor een grofgebekte comedian nou een hele uitdaging zijn. Moet de wereld zachter worden of wij wat harder? \n\nJay Francis\, beter bekend als Tisjeboy Jay\, de man die alles kan. Grappen vertellen op het internet\, volle theater zalen aan het lachen krijgen\, optreden in clubs en bij festivals\, muziek produceren en uitbrengen en presenteren. Een mensenmens in hart en nieren én rasechte artiest. \nJay is een tikkeltje grofgebekt\, neemt geen blad voor de mond maar heeft een goede kijk op het leven. Zijn drijfveer is positiviteit verspreiden in een vaak nogal negatieve wereld. Zijn motto luidt dan ook ‘als jij lacht\, lach ik ook’. \nJay werd bekend door zijn deelname als verleider aan het RTL-programma Temptation Island in 2018. Daarnaast is hij voormalig boekhouder en bodybuilder\, maar tegenwoordig voornamelijk influencer! Zijn grappige internetfilmpjes op YouTube trekken meer dan honderdduizend kijkers. Zijn posts\, sketches en filmpjes zitten vol humor\, maar bevatten ook altijd een boodschap die aanzet tot nadenken.
URL:https://www.dorpshuiscallantsoog.nl/event/tisjeboy-jay/
CATEGORIES:Cabaret
ATTACH;FMTTYPE=image/png:https://www.dorpshuiscallantsoog.nl/wp-content/uploads/2022/03/Uitverkocht.png
END:VEVENT
END:VCALENDAR